BEGIN:VCALENDAR
VERSION:2.0
PRODID:-//Harmonija - ECPv6.3.3.1//NONSGML v1.0//EN
CALSCALE:GREGORIAN
METHOD:PUBLISH
X-ORIGINAL-URL:https://harmonijahall.rs
X-WR-CALDESC:Događaji za Harmonija
REFRESH-INTERVAL;VALUE=DURATION:PT1H
X-Robots-Tag:noindex
X-PUBLISHED-TTL:PT1H
BEGIN:VTIMEZONE
TZID:UTC
BEGIN:STANDARD
TZOFFSETFROM:+0000
TZOFFSETTO:+0000
TZNAME:UTC
DTSTART:20240101T000000
END:STANDARD
END:VTIMEZONE
BEGIN:VEVENT
DTSTART;TZID=UTC:20240303T080000
DTEND;TZID=UTC:20240303T170000
DTSTAMP:20260423T134147
CREATED:20240303T161221Z
LAST-MODIFIED:20240303T161221Z
UID:865-1709452800-1709485200@harmonijahall.rs
SUMMARY:Slobodan termin 25.05.2024
DESCRIPTION:
URL:https://harmonijahall.rs/kalendar/slobodan-termin-25-05-2024/
END:VEVENT
END:VCALENDAR