BEGIN:VCALENDAR
VERSION:2.0
PRODID:-//Harmonija - ECPv6.3.3.1//NONSGML v1.0//EN
CALSCALE:GREGORIAN
METHOD:PUBLISH
X-ORIGINAL-URL:https://harmonijahall.rs
X-WR-CALDESC:Događaji za Harmonija
REFRESH-INTERVAL;VALUE=DURATION:PT1H
X-Robots-Tag:noindex
X-PUBLISHED-TTL:PT1H
BEGIN:VTIMEZONE
TZID:UTC
BEGIN:STANDARD
TZOFFSETFROM:+0000
TZOFFSETTO:+0000
TZNAME:UTC
DTSTART:20240101T000000
END:STANDARD
END:VTIMEZONE
BEGIN:VEVENT
DTSTART;VALUE=DATE:20240129
DTEND;VALUE=DATE:20240130
DTSTAMP:20260423T151938
CREATED:20240129T132414Z
LAST-MODIFIED:20240129T132414Z
UID:521-1706486400-1706572799@harmonijahall.rs
SUMMARY:Rođendan 29.01.2024
DESCRIPTION:
URL:https://harmonijahall.rs/kalendar/rodjendan-29-01-2024/
CATEGORIES:Rođendani
END:VEVENT
END:VCALENDAR